BEGIN:VCALENDAR
VERSION:2.0
PRODID:-//hacksw/handcal//NONSGML v1.0//EN
BEGIN:VEVENT
DTSTART:20201209T181500
DTEND:20201209T193000
LOCATION:
ORGANIZER;CN=Bernard Depouilly - Management de Transition (CSA):MAILTO:bdepouilly@hotmail.com
SUMMARY:Portage ou Société Personnelle pour facturer ta prestation ?
DESCRIPTION:\nC’est une question fondamentale à te poser avant de conclure ton contrat de mission !Deux possibilités principales s’offrent à toi :Tu as à ta disposition une structure juridique au travers de...
URL:https://association.centralesupelec-alumni.com/fr/group/management-de-transition-csa/467/calendar/portage-ou-societe-personnelle-pour-facturer-ta-prestation/2020/12/09/4774
BEGIN:VALARM
TRIGGER:-P0DT1H0M0S
ACTION:DISPLAY
END:VALARM
END:VEVENT
END:VCALENDAR