BEGIN:VCALENDAR
VERSION:2.0
PRODID:-//hacksw/handcal//NONSGML v1.0//EN
BEGIN:VEVENT
DTSTART:20201117T183000
DTEND:20201117T200000
LOCATION:
ORGANIZER;CN=CSA Carrières:MAILTO:carrieres@centraliens.net
SUMMARY:Apéro WATs4U du 17 novembre : l'impact du Covid sur le secteur humanitaire et les ONG
DESCRIPTION:\nRetrouvons-nous pour un apéro on line  mardi 17 novembre de 18h30 à 20h.\nNous aborderons l'impact du Covid sur le secteur humanitaire et les ONG au cours d'une table ronde, suivie d'une session de ...
URL:https://association.centralesupelec-alumni.com/fr/event/apero-wats4u-du-17-novembre-l-impact-du-covid-sur-le-secteur-humanitaire-et-les-ong/2020/11/17/4569
BEGIN:VALARM
TRIGGER:-P0DT1H0M0S
ACTION:DISPLAY
END:VALARM
END:VEVENT
END:VCALENDAR