BEGIN:VCALENDAR
VERSION:2.0
PRODID:-//hacksw/handcal//NONSGML v1.0//EN
BEGIN:VEVENT
DTSTART:20201125T120000
DTEND:20201125T130000
LOCATION:Où que tu sois, avec un ordinateur, une tablette ou un smartphone
ORGANIZER;CN=CentraleSupélec Alumni:MAILTO:csa-alumni@centralesupelec-alumni.com
SUMMARY:Cycle Ma Com' - Les fondamentaux de la communication verbale
DESCRIPTION:Les fondamentaux de la communication verbale\nDans cet atelier, Christophe Lavalle*, acteur, metteur en scène et professeur d’art dramatique, te propose de découvrir les outils de l’acteur au service ...
URL:https://association.centralesupelec-alumni.com/fr/event/cycle-ma-com-les-fondamentaux-de-la-communication-verbale/2020/11/25/4485
BEGIN:VALARM
TRIGGER:-P0DT1H0M0S
ACTION:DISPLAY
END:VALARM
END:VEVENT
END:VCALENDAR