BEGIN:VCALENDAR
VERSION:2.0
PRODID:-//hacksw/handcal//NONSGML v1.0//EN
BEGIN:VEVENT
DTSTART:20201120T123000
DTEND:20201120T133000
LOCATION:Où que tu sois, avec un ordinateur, une tablette ou un smartphone
ORGANIZER;CN=CentraleSupélec Alumni:MAILTO:csa-alumni@centralesupelec-alumni.com
SUMMARY:Webinaire - Romain Soubeyran, directeur général de CentraleSupélec
DESCRIPTION:Romain Soubeyran, directeur général de CentraleSupélecVendredi 20 novembre de 12h30 à 13h30 (Heure française)Lien de connexion ZoomID de réunion : 878 5301 2296Code secret : 702907Pour joindre la...
URL:https://association.centralesupelec-alumni.com/fr/event/webinaire-romain-soubeyran-directeur-general-de-centralesupelec/2020/11/20/4479
BEGIN:VALARM
TRIGGER:-P0DT1H0M0S
ACTION:DISPLAY
END:VALARM
END:VEVENT
END:VCALENDAR