BEGIN:VCALENDAR
VERSION:2.0
PRODID:-//hacksw/handcal//NONSGML v1.0//EN
BEGIN:VEVENT
DTSTART:20201119T083000
DTEND:20201119T100000
LOCATION:
ORGANIZER;CN=CentraleSupélec Alumni:MAILTO:csa-alumni@centralesupelec-alumni.com
SUMMARY:Face à Face avec Jean-Bernard Lévy - PDG d'EDF
DESCRIPTION:\nJean-Bernard Lévy - Président Directeur Général d'EDF \n"EDF et la neutralité carbone"\nCet événement se tiendra en visioconférence,Inscription obligatoire pour recevoir le lien de connexion par...
URL:https://association.centralesupelec-alumni.com/fr/event/face-a-face-avec-jean-bernard-levy-pdg-d-edf/2020/11/19/4451
BEGIN:VALARM
TRIGGER:-P0DT1H0M0S
ACTION:DISPLAY
END:VALARM
END:VEVENT
END:VCALENDAR