BEGIN:VCALENDAR
VERSION:2.0
PRODID:-//hacksw/handcal//NONSGML v1.0//EN
BEGIN:VEVENT
DTSTART:20201102T180000
DTEND:20201102T193000
LOCATION:
ORGANIZER;CN=Marc Pagnier - Assurance, Banque, Finance (CSA):MAILTO:marc.pagnier@centraliens.net
SUMMARY:Webinar "Le rôle sociétal de l'assurance"
DESCRIPTION:Les assureurs sont-ils injustement traités : incompris et mal-aimés ?La séquence des pertes d’exploitation suite aux fermetures administratives imposées par la propagation de la Covid19 pourrait le...
URL:https://association.centralesupelec-alumni.com/fr/group/assurance-banque-finance-csa/65/calendar/webinar-le-role-societal-de-l-assurance/2020/11/02/4444
BEGIN:VALARM
TRIGGER:-P0DT1H0M0S
ACTION:DISPLAY
END:VALARM
END:VEVENT
END:VCALENDAR