BEGIN:VCALENDAR
VERSION:2.0
PRODID:-//hacksw/handcal//NONSGML v1.0//EN
BEGIN:VEVENT
DTSTART:20201120T123000
DTEND:20201120T140000
LOCATION:
ORGANIZER;CN=CSA Carrières:MAILTO:carrieres@centraliens.net
SUMMARY:Webinaire : 3 ans après les ordonnances Macron, comment négocier au mieux son départ ? Eclairage d'une avocate
DESCRIPTION:Participer à la réunion Zoom\nhttps://us02web.zoom.us/j/83928181602?pwd=aS9sWmNwZENObHNwcENtdWdZdzZTQT09\nID de réunion : 839 2818 1602\nCode secret : 658439\nCe webinaire est pour toi si :- Tu es (ou...
URL:https://association.centralesupelec-alumni.com/fr/event/webinaire-3-ans-apres-les-ordonnances-macron-comment-negocier-au-mieux-son-depart-eclairage-d-une-avocate/2020/11/20/4440
BEGIN:VALARM
TRIGGER:-P0DT1H0M0S
ACTION:DISPLAY
END:VALARM
END:VEVENT
END:VCALENDAR