BEGIN:VCALENDAR
VERSION:2.0
PRODID:-//hacksw/handcal//NONSGML v1.0//EN
BEGIN:VEVENT
DTSTART:20201029T180000
DTEND:20201029T200000
LOCATION:
ORGANIZER;CN=Alain Monroche - Repreneurs (CSA):MAILTO:alain.monroche@wanadoo.fr
SUMMARY:L’arrivée des business angels dans la reprise de PME : le modèle Search Fund
DESCRIPTION:Centrale - X - HEC avec Grandes Ecoles Entrepreneurs (G2E) Search Fund Conference France (à distance)Le search fund est un modèle d’entrepreneuriat visant la reprise d'une PME in bonis financée par un...
URL:https://association.centralesupelec-alumni.com/fr/group/repreneurs-csa/331/calendar/l-arrivee-des-business-angels-dans-la-reprise-de-pme-le-modele-search-fund/2020/10/29/4425
BEGIN:VALARM
TRIGGER:-P0DT1H0M0S
ACTION:DISPLAY
END:VALARM
END:VEVENT
END:VCALENDAR