BEGIN:VCALENDAR
VERSION:2.0
PRODID:-//hacksw/handcal//NONSGML v1.0//EN
BEGIN:VEVENT
DTSTART:20201105T183000
DTEND:20201105T193000
LOCATION:
ORGANIZER;CN=Christian Duquesne - Énergie Durable (CSA):MAILTO:christian-duquesne@wanadoo.fr
SUMMARY:How to Successfully build the hydrogen economy, two concrete examples from Aberdeen and Paris
DESCRIPTION:\nLien pour le webinar:https://us02web.zoom.us/j/82531183228 ID de réunion : 825 3118 3228Code secret : 665610\nThe hydrogen economy has already been described by Jeremy Rifkin nearly 20 years ago. It...
URL:https://association.centralesupelec-alumni.com/fr/group/energie-durable-csa/323/calendar/how-to-successfully-build-the-hydrogen-economy-two-concrete-examples-from-aberdeen-and-paris/2020/11/05/4416
BEGIN:VALARM
TRIGGER:-P0DT1H0M0S
ACTION:DISPLAY
END:VALARM
END:VEVENT
END:VCALENDAR