BEGIN:VCALENDAR
VERSION:2.0
PRODID:-//hacksw/handcal//NONSGML v1.0//EN
BEGIN:VEVENT
DTSTART:20201008T184500
DTEND:20201008T210000
LOCATION:CentraleSupelec (campus de Saclay), Théâtre Joel Rousseau (bâtiment Bouygues) \n9, Rue Joliot Curie \n91190 GIF-SUR-YVETTE
ORGANIZER;CN=Jacques MILLERY - Ingénieur et Développement Durable (CSA):MAILTO:jacques.millery@centraliens.net
SUMMARY:Conférence exceptionnelle : "Monnaie et Environnement" avec Nicolas Dufrene
DESCRIPTION:Il existe des questions que la plupart des politiques ou des communiquant considèrent comme trop complexes pour un débat public: il convient, selon eux, de les réserver aux "spécialistes". Susan...
URL:https://association.centralesupelec-alumni.com/fr/group/ingenieur-et-developpement-durable-csa/67/calendar/conference-exceptionnelle-monnaie-et-environnement-avec-nicolas-dufrene/2020/10/08/4386
BEGIN:VALARM
TRIGGER:-P0DT1H0M0S
ACTION:DISPLAY
END:VALARM
END:VEVENT
END:VCALENDAR