BEGIN:VCALENDAR
VERSION:2.0
PRODID:-//hacksw/handcal//NONSGML v1.0//EN
BEGIN:VEVENT
DTSTART:20201116T123000
DTEND:20201116T140000
LOCATION:
ORGANIZER;CN=CSA Carrières:MAILTO:carrieres@centraliens.net
SUMMARY:REPORTE -  Réfléchir à sa mobilité professionnelle, optimiser son parcours et sa gestion de carrière.
DESCRIPTION:Des clés pour réussir à gérer ta carrière au quotidienQuel est le bon moment ou l’âge idéal pour changer de job ?Pourquoi et comment envisager une réorientation professionnelle ?L’international te...
URL:https://association.centralesupelec-alumni.com/fr/event/reporte-reflechir-a-sa-mobilite-professionnelle-optimiser-son-parcours-et-sa-gestion-de-carriere/2020/11/16/4385
BEGIN:VALARM
TRIGGER:-P0DT1H0M0S
ACTION:DISPLAY
END:VALARM
END:VEVENT
END:VCALENDAR