BEGIN:VCALENDAR
VERSION:2.0
PRODID:-//hacksw/handcal//NONSGML v1.0//EN
BEGIN:VEVENT
DTSTART:20201029T123000
DTEND:20201029T140000
LOCATION:
ORGANIZER;CN=CSA Carrières:MAILTO:carrieres@centraliens.net
SUMMARY:WEBINAIRE :  Comprendre le jeu de tes motivations pour t’engager à juste titre
DESCRIPTION:Participer à la réunion Zoom\nhttps://us02web.zoom.us/j/87259482384?pwd=eWdqVmV4NVcxeUFEWnF3NTZmcW82Zz09\nID de réunion : 872 5948 2384\nCode secret : 685652 \nComprendre ce qui nous anime, les...
URL:https://association.centralesupelec-alumni.com/fr/event/-webinaire-comprendre-le-jeu-de-tes-motivations-pour-t-engager-a-juste-titre/2020/10/29/4382
BEGIN:VALARM
TRIGGER:-P0DT1H0M0S
ACTION:DISPLAY
END:VALARM
END:VEVENT
END:VCALENDAR