BEGIN:VCALENDAR
VERSION:2.0
PRODID:-//hacksw/handcal//NONSGML v1.0//EN
BEGIN:VEVENT
DTSTART:20201119T123000
DTEND:20201119T140000
LOCATION:
ORGANIZER;CN=CSA Carrières:MAILTO:carrieres@centraliens.net
SUMMARY:REPORTE - Webinaire "Gestion du patrimoine"
DESCRIPTION:Tu recherches des conseils avisés pour construire, consolider, développer, pérenniser, voire transmettre ton patrimoine ? Nous te proposons, de par nos compétences un webinaire couvrant tous les...
URL:https://association.centralesupelec-alumni.com/fr/event/reporte-webinaire-gestion-du-patrimoine/2020/11/19/4372
BEGIN:VALARM
TRIGGER:-P0DT1H0M0S
ACTION:DISPLAY
END:VALARM
END:VEVENT
END:VCALENDAR