BEGIN:VCALENDAR
VERSION:2.0
PRODID:-//hacksw/handcal//NONSGML v1.0//EN
BEGIN:VEVENT
DTSTART:20200922T081500
DTEND:20200922T100000
LOCATION:Cercle de l'Union Interalliée \n33, rue du Faubourg Saint-Honoré \n75008 PARIS
ORGANIZER;CN=Jean Cantoni - Administrateurs (CSA):MAILTO:jeancantoni@orange.fr
SUMMARY:Matinale CdA : "Twitter et la construction de la valeur de l’entreprise"
DESCRIPTION:Bonjour à tous,La prochaine matinale du CdA sera l’occasion d’aborder l’univers des réseaux sociaux avec comme invité Damien VIEL, Président Directeur Général de TWITTER.Longtemps reconnu pour être...
URL:https://association.centralesupelec-alumni.com/fr/group/administrateurs-csa/313/calendar/matinale-cda-twitter-et-la-construction-de-la-valeur-de-l-entreprise/2020/09/22/4370
BEGIN:VALARM
TRIGGER:-P0DT1H0M0S
ACTION:DISPLAY
END:VALARM
END:VEVENT
END:VCALENDAR