BEGIN:VCALENDAR
VERSION:2.0
PRODID:-//hacksw/handcal//NONSGML v1.0//EN
BEGIN:VEVENT
DTSTART:20200914T183000
DTEND:20200914T203000
LOCATION:web
ORGANIZER;CN=Guy Delcroix - Promotion ECP 1973:MAILTO:guy.delcroix@wanadoo.fr
SUMMARY:50 ans après!
DESCRIPTION:Chères amies, chers camarades,En cette période particulière, pas facile d'organiser un évènement de promotion en présentiel!Et pourtant, sur une suggestion de Jean Pautrot, nous vous proposons de...
URL:https://association.centralesupelec-alumni.com/fr/group/promotion-ecp-1973/159/calendar/50-ans-apres/2020/09/14/4351
BEGIN:VALARM
TRIGGER:-P0DT1H0M0S
ACTION:DISPLAY
END:VALARM
END:VEVENT
END:VCALENDAR