BEGIN:VCALENDAR
VERSION:2.0
PRODID:-//hacksw/handcal//NONSGML v1.0//EN
BEGIN:VEVENT
DTSTART:20200914T183000
DTEND:20200914T223000
LOCATION:Le Café Gauchet  \n1, Rue Marcel Paul \n44000 NANTES
ORGANIZER;CN=Stéphane Aubet - Ouest-Atlantique (CSA):MAILTO:stephane@aubet.com
SUMMARY:Le stockage de l'énergie électrique. Applications, technologies et challenges
DESCRIPTION:Le stockage de l'énergie électrique. Applications, technologies et challengesDominique Guyomard,Université de Nantes, CNRS, Institut des Matériaux Jean Rouxe\nLe stockage de l'électricité est un...
URL:https://association.centralesupelec-alumni.com/fr/group/ouest-atlantique-csa/297/calendar/le-stockage-de-l-energie-electrique-applications-technologies-et-challenges/2020/09/14/4350
BEGIN:VALARM
TRIGGER:-P0DT1H0M0S
ACTION:DISPLAY
END:VALARM
END:VEVENT
END:VCALENDAR