BEGIN:VCALENDAR
VERSION:2.0
PRODID:-//hacksw/handcal//NONSGML v1.0//EN
BEGIN:VEVENT
DTSTART:20200915T183000
DTEND:20200915T200000
LOCATION:
ORGANIZER;CN=Sylvana Pautonnier - Management de Transition (CSA):MAILTO:
SUMMARY:4ème Apéro WATs4U en zoom sur le thème :  l'impact du Covid sur le secteur du luxe
DESCRIPTION:\nRetrouvons-nous pour un apéro on line\nmardi 15 septembre de 18h30 à 20h.\nNous aborderons l'impact du Covid sur le secteur du luxe au cours d'une table ronde, suivie d'une session de networking et ...
URL:https://association.centralesupelec-alumni.com/fr/group/management-de-transition-csa/467/calendar/4eme-apero-wats4u-en-zoom-sur-le-theme-l-impact-du-covid-sur-le-secteur-du-luxe/2020/09/15/4336
BEGIN:VALARM
TRIGGER:-P0DT1H0M0S
ACTION:DISPLAY
END:VALARM
END:VEVENT
END:VCALENDAR