BEGIN:VCALENDAR
VERSION:2.0
PRODID:-//hacksw/handcal//NONSGML v1.0//EN
BEGIN:VEVENT
DTSTART:20200921T190000
DTEND:20200921T210000
LOCATION:
ORGANIZER;CN=Irina Jaubert - Économie Sociale & Solidaire (CSA):MAILTO:irina.jaubert@mailo.com
SUMMARY:Découvre Finacoop - 1ère SCIC d’expertise comptable, juridique et financière dédiée à l'ESS
DESCRIPTION:Nous pouvons tou-te-s entreprendre en ESS, preuve en est FINACOOP (www.finacoop.fr) créée depuis 4 ans qui oeuvre dans le domaine de l'expertise comptable, profession réglementée, en dédiant son...
URL:https://association.centralesupelec-alumni.com/fr/group/economie-sociale-solidaire-csa/69/calendar/decouvre-finacoop-1ere-scic-d-expertise-comptable-juridique-et-financiere-dediee-a-l-ess/2020/09/21/4315
BEGIN:VALARM
TRIGGER:-P0DT1H0M0S
ACTION:DISPLAY
END:VALARM
END:VEVENT
END:VCALENDAR