BEGIN:VCALENDAR
VERSION:2.0
PRODID:-//hacksw/handcal//NONSGML v1.0//EN
BEGIN:VEVENT
DTSTART:20200917T101500
DTEND:20200917T150000
LOCATION:Grand Palais \nSquare Jean Perrin,  avenue du Général Eisenhower, Paris 8ème \n75008 Paris
ORGANIZER;CN=Pierre Chavy - Promotion ECP 1956:MAILTO:pierre.chavy@gmail.com
SUMMARY:Visite de l'exposition Pompéi au Grand-Palais et déjeuner
DESCRIPTION:POMPÉIPromenade immersive. Trésors archéologiques. Nouvelles découvertesGrand Palais, Salon d'Honneur - Square Jean Perrin17 septembre 2020 à 10 h 15Un parcours immersif plonge le visiteur au cœur de ...
URL:https://association.centralesupelec-alumni.com/fr/group/promotion-ecp-1956/193/calendar/visite-de-l-exposition-pompei-au-grand-palais-et-dejeuner/2020/09/17/4309
BEGIN:VALARM
TRIGGER:-P0DT1H0M0S
ACTION:DISPLAY
END:VALARM
END:VEVENT
END:VCALENDAR