BEGIN:VCALENDAR
VERSION:2.0
PRODID:-//hacksw/handcal//NONSGML v1.0//EN
BEGIN:VEVENT
DTSTART:20200925T120000
DTEND:20200925T150000
LOCATION:Château Sainte-Anne \n103, Rue du Vieux Moulin \n1160 AUDERGHEM
ORGANIZER;CN=Frédéric Misheletti - Belgique (CSA):MAILTO:frederic.misheletti@gmail.com
SUMMARY:Déjeuner-conférence -  Cryptographie (via SEII) - Inscriptions ouvertes -  avant le 22 Septembre
DESCRIPTION:A noter sur vos agenda: - Le vendredi 25 septembre, un déjeuner-conférence avec Jean-Jacques QUISQUATER, professeur à   l’université de Louvain, pour nous parler de la cryptographie. Participation (...
URL:https://association.centralesupelec-alumni.com/fr/group/belgique-csa/55/calendar/dejeuner-conference-cryptographie-via-seii-inscriptions-ouvertes-avant-le-22-septembre/2020/09/25/4305
BEGIN:VALARM
TRIGGER:-P0DT1H0M0S
ACTION:DISPLAY
END:VALARM
END:VEVENT
END:VCALENDAR