BEGIN:VCALENDAR
VERSION:2.0
PRODID:-//hacksw/handcal//NONSGML v1.0//EN
BEGIN:VEVENT
DTSTART:20201023T123000
DTEND:20201023T140000
LOCATION:
ORGANIZER;CN=CSA Carrières:MAILTO:carrieres@centraliens.net
SUMMARY:Webinaire : Shine at your next job interview
DESCRIPTION:Preparing for interview? Give yourself the best chance of success.Whether you want to get promoted or to land a job in another organization, the interview is usually a key step.However, depending on...
URL:https://association.centralesupelec-alumni.com/fr/event/webinaire-shine-at-your-next-job-interview/2020/10/23/4280
BEGIN:VALARM
TRIGGER:-P0DT1H0M0S
ACTION:DISPLAY
END:VALARM
END:VEVENT
END:VCALENDAR