BEGIN:VCALENDAR
VERSION:2.0
PRODID:-//hacksw/handcal//NONSGML v1.0//EN
BEGIN:VEVENT
DTSTART:20201015T123000
DTEND:20201015T140000
LOCATION:
ORGANIZER;CN=CSA Carrières:MAILTO:carrieres@centraliens.net
SUMMARY:Webinaire : Bâtir un projet au cœur de ta légitimité - singularité
DESCRIPTION:\nTu cherches à te repositionner ou à développer une activité.Que tu sois salarié, porteur de projet, indépendant, manager de transition, il est un positionnement où tu es intrinsèquement légitime :...
URL:https://association.centralesupelec-alumni.com/fr/event/webinaire-batir-un-projet-au-coeur-de-ta-legitimite-singularite/2020/10/15/4279
BEGIN:VALARM
TRIGGER:-P0DT1H0M0S
ACTION:DISPLAY
END:VALARM
END:VEVENT
END:VCALENDAR