BEGIN:VCALENDAR
VERSION:2.0
PRODID:-//hacksw/handcal//NONSGML v1.0//EN
BEGIN:VEVENT
DTSTART:20201001T123000
DTEND:20201001T140000
LOCATION:
ORGANIZER;CN=CSA Carrières:MAILTO:carrieres@centraliens.net
SUMMARY:Webinaire-Coaching : 2 étapes clés pour réussir ton changement de statut
DESCRIPTION:Tu as une idée, tu veux la développer. Tu as une expertise professionnelle et tu veux proposer tes services en direct. Tu ne progresses plus et veux donc changer.Comment quitter le statut de salarié...
URL:https://association.centralesupelec-alumni.com/fr/event/webinaire-coaching-2-etapes-cles-pour-reussir-ton-changement-de-statut/2020/10/01/4278
BEGIN:VALARM
TRIGGER:-P0DT1H0M0S
ACTION:DISPLAY
END:VALARM
END:VEVENT
END:VCALENDAR