BEGIN:VCALENDAR
VERSION:2.0
PRODID:-//hacksw/handcal//NONSGML v1.0//EN
BEGIN:VEVENT
DTSTART:20200924T123000
DTEND:20200924T140000
LOCATION:
ORGANIZER;CN=CSA Carrières:MAILTO:carrieres@centraliens.net
SUMMARY:Webinaire : Transformer cette crise en ta meilleure opportunité
DESCRIPTION:Et si cette crise subie ou redoutée était ta meilleure opportunité ? Changer ton regard sur une situation qui te semble défavorable et adapter ta posture pour la retourner à ton avantage, en...
URL:https://association.centralesupelec-alumni.com/fr/event/webinaire-transformer-cette-crise-en-ta-meilleure-opportunite/2020/09/24/4277
BEGIN:VALARM
TRIGGER:-P0DT1H0M0S
ACTION:DISPLAY
END:VALARM
END:VEVENT
END:VCALENDAR