BEGIN:VCALENDAR
VERSION:2.0
PRODID:-//hacksw/handcal//NONSGML v1.0//EN
BEGIN:VEVENT
DTSTART:20201009T123000
DTEND:20201009T140000
LOCATION:
ORGANIZER;CN=CSA Carrières:MAILTO:carrieres@centraliens.net
SUMMARY:Webinaire  : Le networking stratégique démystifié
DESCRIPTION:Comment accélérer ta carrière en réseautant efficacement – même si tu détestes le networkingTu excelles dans ton travail et pourtant ta carrière ou ton  business stagne? C’est probablement que tu...
URL:https://association.centralesupelec-alumni.com/fr/event/webinaire-le-networking-strategique-demystifie/2020/10/09/4275
BEGIN:VALARM
TRIGGER:-P0DT1H0M0S
ACTION:DISPLAY
END:VALARM
END:VEVENT
END:VCALENDAR