BEGIN:VCALENDAR
VERSION:2.0
PRODID:-//hacksw/handcal//NONSGML v1.0//EN
BEGIN:VEVENT
DTSTART:20200925T123000
DTEND:20200925T140000
LOCATION:
ORGANIZER;CN=CSA Carrières:MAILTO:carrieres@centraliens.net
SUMMARY:Webinaire : Expand your career horizons and evaluate your options
DESCRIPTION:When you strive to grow professionally, whether you work for an organization or have your own business, on a regular basis you reach a fork in the road.In those moments, it’s usually not that easy to ...
URL:https://association.centralesupelec-alumni.com/fr/event/webinaire-expand-your-career-horizons-and-evaluate-your-options/2020/09/25/4274
BEGIN:VALARM
TRIGGER:-P0DT1H0M0S
ACTION:DISPLAY
END:VALARM
END:VEVENT
END:VCALENDAR