BEGIN:VCALENDAR
VERSION:2.0
PRODID:-//hacksw/handcal//NONSGML v1.0//EN
BEGIN:VEVENT
DTSTART:20200923T190000
DTEND:20200923T220000
LOCATION:Brasserie Mollard \n115 avenue Saint Lazare \n75008 Paris
ORGANIZER;CN=Nita Hauchecorne - CentraleSupélec Numérique:MAILTO:nita.hauchecorne@gmail.com
SUMMARY:Comprendre l'informatique quantique
DESCRIPTION:INSCRIPTIONS CLOSES\nDepuis deux ans, l’actualité de l’informatique quantique bat son plein, alimentée par les plans nationaux ainsi que par les prouesses d’acteurs tels que Google et IBM. Elle reste ...
URL:https://association.centralesupelec-alumni.com/fr/group/centralesupelec-numerique/329/calendar/comprendre-l-informatique-quantique/2020/09/23/4273
BEGIN:VALARM
TRIGGER:-P0DT1H0M0S
ACTION:DISPLAY
END:VALARM
END:VEVENT
END:VCALENDAR