BEGIN:VCALENDAR
VERSION:2.0
PRODID:-//hacksw/handcal//NONSGML v1.0//EN
BEGIN:VEVENT
DTSTART:20200228T123000
DTEND:20200228T140000
LOCATION:La Défense, Socle, salle Chassagne 2
ORGANIZER;CN=Charles Bienfait - Société Générale:MAILTO:charles.bienfait@gmail.com
SUMMARY:Comprendre l'environnement des taux bas
DESCRIPTION:Chers tous,\nNous avons le plaisir de vous convier à une conférence sur un sujet d’économie donnée par Ariel EMIRIAN, responsable des études macro-économiques et des analyses pays au sein de RISQ/ETU,...
URL:https://association.centralesupelec-alumni.com/fr/group/societe-generale/355/calendar/comprendre-l-environnement-des-taux-bas/2020/02/28/3743
BEGIN:VALARM
TRIGGER:-P0DT1H0M0S
ACTION:DISPLAY
END:VALARM
END:VEVENT
END:VCALENDAR