BEGIN:VCALENDAR
VERSION:2.0
PRODID:-//hacksw/handcal//NONSGML v1.0//EN
BEGIN:VEVENT
DTSTART:20191130T200000
DTEND:20191201T020500
LOCATION:Cerf Volant Barbiche \n3 Rue Rodier \n75009 Paris
ORGANIZER;CN=Yoann Roques - Promotion ECP 2012 - Boris Vian:MAILTO:11roquesy@gmail.com
SUMMARY:Soirée de Promotion 2011-2012
DESCRIPTION:Cela faisait quelques temps que nous ne nous étions pas vus.\nLaissons passer l'été... et l'automne pour nous retrouver lors d'un samedi soir convivial à Paris.\nNotez bien la date dans vos...
URL:https://association.centralesupelec-alumni.com/fr/group/promotion-ecp-2012-boris-vian/119/calendar/soiree-de-promotion-2011-2012/2019/11/30/3591
BEGIN:VALARM
TRIGGER:-P0DT1H0M0S
ACTION:DISPLAY
END:VALARM
END:VEVENT
END:VCALENDAR