BEGIN:VCALENDAR
VERSION:2.0
PRODID:-//hacksw/handcal//NONSGML v1.0//EN
BEGIN:VEVENT
DTSTART:20191206T081500
DTEND:20191206T113000
LOCATION:Maison des Centraliens (6ème étage) \n8, Rue Jean Goujon \n75008 PARIS
ORGANIZER;CN=Centrale Paris Carrières:MAILTO:carrieres@centraliens.net
SUMMARY:RCC - Rencontres avec les « Chasseurs de tête »
DESCRIPTION:Attention l’inscription en ligne est une pré-inscription elle doit être validée par le coordinateur de la session qui prendra contact avec toi pour participer aux Rencontres.Ces rencontres te...
URL:https://association.centralesupelec-alumni.com/fr/event/rcc-rencontres-avec-les-chasseurs-de-tete/2019/12/06/3554
BEGIN:VALARM
TRIGGER:-P0DT1H0M0S
ACTION:DISPLAY
END:VALARM
END:VEVENT
END:VCALENDAR