BEGIN:VCALENDAR
VERSION:2.0
PRODID:-//hacksw/handcal//NONSGML v1.0//EN
BEGIN:VEVENT
DTSTART:20191023T190000
DTEND:20191023T213000
LOCATION:Maison des Centraliens \n8, Rue Jean Goujon \n75008 PARIS
ORGANIZER;CN=Christian Delaroche - Entrepreneurs (CSA):MAILTO:chdelaroche@gmail.com
SUMMARY:Comment devenir Cyberentrepreneur ?    Conférence-cocktail
DESCRIPTION: le mercredi 23 octobre, à 19h\n Conférence-cocktail Cybersécurité, tous concernés ! Dégainerez-vous plus vite que les hackers ?\nComment agir face à la cybermenace et protéger nos entreprises? Maxime...
URL:https://association.centralesupelec-alumni.com/fr/group/entrepreneurs-csa/325/calendar/comment-devenir-cyberentrepreneur-conference-cocktail/2019/10/23/3517
BEGIN:VALARM
TRIGGER:-P0DT1H0M0S
ACTION:DISPLAY
END:VALARM
END:VEVENT
END:VCALENDAR