BEGIN:VCALENDAR
VERSION:2.0
PRODID:-//hacksw/handcal//NONSGML v1.0//EN
BEGIN:VEVENT
DTSTART:20191015T183000
DTEND:20191015T203000
LOCATION:Association des Centraliens (5ème étages) \n8, Rue Jean Goujon \n75008 PARIS
ORGANIZER;CN=Centrale Paris Carrières:MAILTO:carrieres@centraliens.net
SUMMARY:Centrale Pack : Tout nouveau Manager "Mieux interagir grâce à l’analyse transactionnelle" ANNULE
DESCRIPTION:Objectifs de l’atelierMieux te connaître et comprendre les autres à travers l’approche de l’Analyse Transactionnelle\nMieux comprendre les différents modes de relations interpersonnellesDévelopper des...
URL:https://association.centralesupelec-alumni.com/fr/event/centrale-pack-tout-nouveau-manager-mieux-interagir-grace-a-l-analyse-transactionnelle-annule/2019/10/15/3430
BEGIN:VALARM
TRIGGER:-P0DT1H0M0S
ACTION:DISPLAY
END:VALARM
END:VEVENT
END:VCALENDAR