BEGIN:VCALENDAR
VERSION:2.0
PRODID:-//hacksw/handcal//NONSGML v1.0//EN
BEGIN:VEVENT
DTSTART:20190527T121500
DTEND:20190527T134500
LOCATION:Grande Arche de La Défense \n1 Parvis de la Défense \n92800  Puteaux
ORGANIZER;CN=Charles Bienfait - Société Générale:MAILTO:charles.bienfait@gmail.com
SUMMARY:[Société Générale] Visite du SWAVE, incubateur de fintech, partenaire du Groupe
DESCRIPTION:Bonjour à toutes et à tous,\nLa communauté des anciens de CentraleSupélec au sein de Société Générale a le plaisir de vous inviter à une visite du SWAVE, incubateur de start-ups spécialisé dans les...
URL:https://association.centralesupelec-alumni.com/fr/group/societe-generale/355/calendar/-societe-generale-visite-du-swave-incubateur-de-fintech-partenaire-du-groupe/2019/05/27/3327
BEGIN:VALARM
TRIGGER:-P0DT1H0M0S
ACTION:DISPLAY
END:VALARM
END:VEVENT
END:VCALENDAR