BEGIN:VCALENDAR
VERSION:2.0
PRODID:-//hacksw/handcal//NONSGML v1.0//EN
BEGIN:VEVENT
DTSTART:20190313T183000
DTEND:20190313T203000
LOCATION:Où que tu sois avec un ordi, une tablette ou un smartphone
ORGANIZER;CN=Association des Centraliens - Suis les événements en live !:MAILTO:csa-alumni@centralesupelec-alumni.com
SUMMARY:Cycle Climat en live : énergie et climat
DESCRIPTION:\nL’objet du Cycle Climat est de comprendre comment se posent les questions de limitation des causes de changement climatique anthropique (atténuation) ainsi que les questions d’adaptation au...
URL:https://association.centralesupelec-alumni.com/fr/group/suis-les-evenements-en-live/461/calendar/cycle-climat-en-live-energie-et-climat/2019/03/13/3254
BEGIN:VALARM
TRIGGER:-P0DT1H0M0S
ACTION:DISPLAY
END:VALARM
END:VEVENT
END:VCALENDAR