BEGIN:VCALENDAR
VERSION:2.0
PRODID:-//hacksw/handcal//NONSGML v1.0//EN
BEGIN:VEVENT
DTSTART:20190212T183000
DTEND:20190212T203000
LOCATION:Où que tu sois avec un ordi, une tablette ou un smartphone
ORGANIZER;CN=Association des Centraliens - Suis les événements en live !:MAILTO:csa-alumni@centralesupelec-alumni.com
SUMMARY:Cycle Climat en live : économie et finance du changement climatique
DESCRIPTION:\nL’objet du séminaire climat est de comprendre comment se posent les questions de limitation des causes de changement climatique anthropique (atténuation) ainsi que les questions d’adaptation au...
URL:https://association.centralesupelec-alumni.com/fr/group/suis-les-evenements-en-live/461/calendar/cycle-climat-en-live-economie-et-finance-du-changement-climatique/2019/02/12/3199
BEGIN:VALARM
TRIGGER:-P0DT1H0M0S
ACTION:DISPLAY
END:VALARM
END:VEVENT
END:VCALENDAR