BEGIN:VCALENDAR
VERSION:2.0
PRODID:-//hacksw/handcal//NONSGML v1.0//EN
BEGIN:VEVENT
DTSTART:20190109T190000
DTEND:20190109T230000
LOCATION:Belushi's Paris GDN
ORGANIZER;CN=Arthur Le Manach - Promotion ECP 2019 - Francis Bouygues:MAILTO:arthur.le-manach@centralesupelec-alumni.com
SUMMARY:Afterwork PentaPromo P15 à P19
DESCRIPTION:Bonjour la P2019,\nL’année 2018 s’est achevée et fut riche en émotions avec de nombreux départs (S8, DD, …) mais également de nombreuses occasions de se retrouver lors de nos Afterworks (quasi)...
URL:https://association.centralesupelec-alumni.com/fr/group/promotion-ecp-2019-francis-bouygues/429/calendar/afterwork-pentapromo-p15-a-p19/2019/01/09/3176
BEGIN:VALARM
TRIGGER:-P0DT1H0M0S
ACTION:DISPLAY
END:VALARM
END:VEVENT
END:VCALENDAR