BEGIN:VCALENDAR
VERSION:2.0
PRODID:-//hacksw/handcal//NONSGML v1.0//EN
BEGIN:VEVENT
DTSTART:20181026T180000
DTEND:20181026T210000
LOCATION:Bar Les Copains \n11, Rue de Paradis \n75010 PARIS
ORGANIZER;CN=Romain Hoare - Promotion ECP 2019 - Francis Bouygues:MAILTO:romain.hoare@centraliens.net
SUMMARY:Afterwork
DESCRIPTION:\n
URL:https://association.centralesupelec-alumni.com/fr/group/promotion-ecp-2019-francis-bouygues/429/calendar/afterwork/2018/10/26/3099
BEGIN:VALARM
TRIGGER:-P0DT1H0M0S
ACTION:DISPLAY
END:VALARM
END:VEVENT
END:VCALENDAR