BEGIN:VCALENDAR
VERSION:2.0
PRODID:-//hacksw/handcal//NONSGML v1.0//EN
BEGIN:VEVENT
DTSTART:20180907T170000
DTEND:20180908T030000
LOCATION:Salsero \n9, Rue du Petit Pont \n75005 PARIS
ORGANIZER;CN=Romain Hoare - Promotion ECP 2019 - Francis Bouygues:MAILTO:romain.hoare@centraliens.net
SUMMARY:Afterwork Bi-Promo 2018-2019
DESCRIPTION:Rendez-vous vendredi 7 septembre 2018 à partir de 17h au Bar "Salsero" dans le 5ème, venez nombreux fêter la rentrée autour d'un verre ou deux , entre P2018&2019 !
URL:https://association.centralesupelec-alumni.com/fr/group/promotion-ecp-2019-francis-bouygues/429/calendar/afterwork-bi-promo-2018-2019/2018/09/07/2996
BEGIN:VALARM
TRIGGER:-P0DT1H0M0S
ACTION:DISPLAY
END:VALARM
END:VEVENT
END:VCALENDAR