BEGIN:VCALENDAR
VERSION:2.0
PRODID:-//hacksw/handcal//NONSGML v1.0//EN
BEGIN:VEVENT
DTSTART:20181129T183000
DTEND:20181129T203000
LOCATION:Maison des Centraliens (5ème étage) \n8, Rue Jean Goujon \n75008 PARIS
ORGANIZER;CN=Association des Centraliens:MAILTO:csa-alumni@centralesupelec-alumni.com
SUMMARY:Nouveau Cycle « Manager 4.0 – Oser la transformation ! » 6ème atelier Retrouver durablement énergie et performance
DESCRIPTION:A certains moments tu sens que tu t’épuises pour rien. Tu sais que tu n’es pas efficace, mais l’anxiété t’empêche de t’arrêter. Tu ne te reconnais plus. Tu n’as plus ton recul habituel. Tu souhaites...
URL:https://association.centralesupelec-alumni.com/fr/event/nouveau-cycle-manager-4-0-oser-la-transformation-6eme-atelier-retrouver-durablement-energie-et-performance/2018/11/29/2870
BEGIN:VALARM
TRIGGER:-P0DT1H0M0S
ACTION:DISPLAY
END:VALARM
END:VEVENT
END:VCALENDAR