BEGIN:VCALENDAR
VERSION:2.0
PRODID:-//hacksw/handcal//NONSGML v1.0//EN
BEGIN:VEVENT
DTSTART:20180315T083000
DTEND:20180315T093000
LOCATION:MIPIM
ORGANIZER;CN=Laurent Labaeye - Immobilier (CSA):MAILTO:llabaeye@nexity.fr
SUMMARY:Petit déjeuner au MIPIM
DESCRIPTION:
URL:https://association.centralesupelec-alumni.com/fr/group/immobilier-csa/327/calendar/petit-dejeuner-au-mipim/2018/03/15/2801
BEGIN:VALARM
TRIGGER:-P0DT1H0M0S
ACTION:DISPLAY
END:VALARM
END:VEVENT
END:VCALENDAR