BEGIN:VCALENDAR
VERSION:2.0
PRODID:-//hacksw/handcal//NONSGML v1.0//EN
BEGIN:VEVENT
DTSTART:20180418T193000
DTEND:20180418T233000
LOCATION:Pavillon Puebla \n39 avenue Simon Bolivar \n75019 Paris
ORGANIZER;CN=Kayoum Said Abdallah Fane - Promotion ECP 2014 - Constantin Rozanoff:MAILTO:kayoum.fane@gmail.com
SUMMARY:Centraliens - Afterwork P2013-2014-2015
DESCRIPTION:**Short story**- Quand ? --> Mercredi soir 18/4 - début à 19h30\n- Quoi ? --> Apéro pour les promos ECP 2013-2014-2015\n- Où ? --> Pavillon Puebla\n39 avenue Simon Bolivar 75019\n(Parc des Buttes...
URL:https://association.centralesupelec-alumni.com/fr/group/promotion-ecp-2014-constantin-rozanoff/123/calendar/centraliens-afterwork-p2013-2014-2015/2018/04/18/2794
BEGIN:VALARM
TRIGGER:-P0DT1H0M0S
ACTION:DISPLAY
END:VALARM
END:VEVENT
END:VCALENDAR