BEGIN:VCALENDAR
VERSION:2.0
PRODID:-//hacksw/handcal//NONSGML v1.0//EN
BEGIN:VEVENT
DTSTART:20180326T110000
DTEND:20180326T173000
LOCATION:SACLAY
ORGANIZER;CN=Jean-Claude Trichot - Promotion ECP 1968:MAILTO:trichot.jc@gmail.com
SUMMARY:Promo 68, visite de la nouvelle Ecole le lundi 26 mars 2018
DESCRIPTION:Bonjour,Comme déjà signalé, nous organisons une visite pour notre promo des nouveaux locaux de l'École Centrale à Saclay(1), le lundi 26 mars 2018.\nPour t'inscrire, merci de remplir le document en PJ...
URL:https://association.centralesupelec-alumni.com/fr/group/promotion-ecp-1968/169/calendar/promo-68-visite-de-la-nouvelle-ecole-le-lundi-26-mars-2018/2018/03/26/2768
BEGIN:VALARM
TRIGGER:-P0DT1H0M0S
ACTION:DISPLAY
END:VALARM
END:VEVENT
END:VCALENDAR