BEGIN:VCALENDAR
VERSION:2.0
PRODID:-//hacksw/handcal//NONSGML v1.0//EN
BEGIN:VEVENT
DTSTART:20180525T220000
DTEND:20180527T200000
LOCATION:Domaine équestre de Chevillon
ORGANIZER;CN=Antoine Vidon - Promotion ECP 2015 - Jacques Maisonrouge:MAILTO:antoine.vidon@gmail.com
SUMMARY:WEP #1
DESCRIPTION:\n
URL:https://association.centralesupelec-alumni.com/fr/group/promotion-ecp-2015-jacques-maisonrouge/125/calendar/wep-1/2018/05/25/2767
BEGIN:VALARM
TRIGGER:-P0DT1H0M0S
ACTION:DISPLAY
END:VALARM
END:VEVENT
END:VCALENDAR