BEGIN:VCALENDAR
VERSION:2.0
PRODID:-//hacksw/handcal//NONSGML v1.0//EN
BEGIN:VEVENT
DTSTART:20180213T191500
DTEND:20180213T221500
LOCATION:Maison des Centraliens  \n8, Rue Jean Goujon Salon EMPIRE (Niveau 2) \n75008 PARIS
ORGANIZER;CN=Corine Dubruel - Énergie Durable (CSA):MAILTO:corinedubruel@gmail.com
SUMMARY:Développement de la mobilité électrique: Enjeux de coordination entre secteurs électrique et automobile
DESCRIPTION:Le Groupement CentraleSupélec Énergie & DD en association avec le Groupement CentraleSupélec Automobile a le plaisir de vous inviter à leur prochaine conférence.Nos intervenants pour la conférence...
URL:https://association.centralesupelec-alumni.com/fr/group/energie-durable-csa/323/calendar/developpement-de-la-mobilite-electrique-enjeux-de-coordination-entre-secteurs-electrique-et-automobile/2018/02/13/2738
BEGIN:VALARM
TRIGGER:-P0DT1H0M0S
ACTION:DISPLAY
END:VALARM
END:VEVENT
END:VCALENDAR