BEGIN:VCALENDAR
VERSION:2.0
PRODID:-//hacksw/handcal//NONSGML v1.0//EN
BEGIN:VEVENT
DTSTART:20180925T140000
DTEND:20180928T120000
LOCATION:Obernai \n3, Rue de Gail \n67210 OBERNAI
ORGANIZER;CN=François Quris - Promotion ECP 1968:MAILTO:fx.quris@sfr.fr
SUMMARY:Les 50 ans de la promotion
DESCRIPTION:\nBonjour,\nCa y est, nous avons choisi les modalités de nos retrouvailles pour le 50ème anniversaire de notre sortie de l'École.\nLe lieu sera en Alsace, à Obernai, dans l'hôtel**** "A la Cour...
URL:https://association.centralesupelec-alumni.com/fr/group/promotion-ecp-1968/169/calendar/les-50-ans-de-la-promotion/2018/09/25/2675
BEGIN:VALARM
TRIGGER:-P0DT1H0M0S
ACTION:DISPLAY
END:VALARM
END:VEVENT
END:VCALENDAR