BEGIN:VCALENDAR
VERSION:2.0
PRODID:-//hacksw/handcal//NONSGML v1.0//EN
BEGIN:VEVENT
DTSTART:20171122T120000
DTEND:20171122T160000
LOCATION:Restaurant "le Balcon" (6ème étage)  -   Philharmonie de Paris \nPhilharmonie de Paris, Porte de Pantin \n75019 Paris
ORGANIZER;CN=François Quris - Promotion ECP 1968:MAILTO:fx.quris@sfr.fr
SUMMARY:Promotion 68  -  déjeuner annuel
DESCRIPTION:\nNotre déjeuner annuel, le 22/11/2017, aura lieu cette année au restaurant "Le Balcon", de 12h à 15h, au 6ème étage de la Philharmonie de Paris, Porte de Pantin – 75019.\nLe prix sera de...
URL:https://association.centralesupelec-alumni.com/fr/group/promotion-ecp-1968/169/calendar/promotion-68-dejeuner-annuel/2017/11/22/2405
BEGIN:VALARM
TRIGGER:-P0DT1H0M0S
ACTION:DISPLAY
END:VALARM
END:VEVENT
END:VCALENDAR