BEGIN:VCALENDAR
VERSION:2.0
PRODID:-//hacksw/handcal//NONSGML v1.0//EN
BEGIN:VEVENT
DTSTART:20170629T193000
DTEND:20170629T233000
LOCATION:Bar des Halles \n71, Rue Saint Honoré \n75001 PARIS
ORGANIZER;CN=Loukas Kozonis - Promotion ECP 2014 - Constantin Rozanoff:MAILTO:kozonisloukas@gmail.com
SUMMARY:Centraliens - Afterwork P2013-2014-2015
DESCRIPTION:\n**Short story:**\n- Quand? --> Jeudi soir 26/6 - début à 19h30\n- Quoi? --> Apéro pour les promos ECP 2013-2014-2015\n- Où? --> Bar des Halles\n71 Rue Saint Honoré, 75001 Paris, France\n**Long...
URL:https://association.centralesupelec-alumni.com/fr/group/promotion-ecp-2014-constantin-rozanoff/123/calendar/centraliens-afterwork-p2013-2014-2015/2017/06/29/2395
BEGIN:VALARM
TRIGGER:-P0DT1H0M0S
ACTION:DISPLAY
END:VALARM
END:VEVENT
END:VCALENDAR