BEGIN:VCALENDAR
VERSION:2.0
PRODID:-//hacksw/handcal//NONSGML v1.0//EN
BEGIN:VEVENT
DTSTART:20170222T183000
DTEND:20170222T200000
LOCATION:Maison des Centraliens (5ème étage) \n8 rue jean goujon \n75008 PARIS
ORGANIZER;CN=Jean-Sébastien Mariano - MS Technologie et Management:MAILTO:agence.paris.batignolles1@swisslife.fr
SUMMARY:Afterwork MS TM
DESCRIPTION:Bonjour,\nNous vous proposons un afterwork le 22 février à la Maison des Centraliens, afin de faire plus ample connaissance et de partager ensemble la vie de notre filière.\nPAF souhaitée de 2 euros...
URL:https://association.centralesupelec-alumni.com/fr/group/ms-technologie-et-management/413/calendar/afterwork-ms-tm/2017/02/22/1877
BEGIN:VALARM
TRIGGER:-P0DT1H0M0S
ACTION:DISPLAY
END:VALARM
END:VEVENT
END:VCALENDAR