BEGIN:VCALENDAR
VERSION:2.0
PRODID:-//hacksw/handcal//NONSGML v1.0//EN
BEGIN:VEVENT
DTSTART:20161126T190000
DTEND:20161127T020000
LOCATION:Le Bouclier de Bacchus \n18 rue saint lazare \n75009 PARIS
ORGANIZER;CN=Rémi Viallet - Promotion ECP 2006:MAILTO:remi.viallet@centraliens.net
SUMMARY:Soirée des 10 ans de la Promotion 2006
DESCRIPTION:Les inscriptions sont ouvertes pour notre soirée de retrouvailles.\nNous vous rappelons le programme:\n- Apéritif en mode speed networking pour réactiver le reseau\n- Cocktail dînatoire \n-...
URL:https://association.centralesupelec-alumni.com/fr/group/promotion-ecp-2006/107/calendar/soiree-des-10-ans-de-la-promotion-2006/2016/11/26/1539
BEGIN:VALARM
TRIGGER:-P0DT1H0M0S
ACTION:DISPLAY
END:VALARM
END:VEVENT
END:VCALENDAR