BEGIN:VCALENDAR
VERSION:2.0
PRODID:-//hacksw/handcal//NONSGML v1.0//EN
BEGIN:VEVENT
DTSTART:20161020T170000
DTEND:20161020T200000
LOCATION:Restaurante Nice to meet you \n80, Calle Gran Vía \n28013 MADRID
ORGANIZER;CN=Sébastien Favier - MS Technologie et Management:MAILTO:sebfavier@yahoo.com
SUMMARY:Afterwork à Madrid
DESCRIPTION:\n
URL:https://association.centralesupelec-alumni.com/fr/group/ms-technologie-et-management/413/calendar/afterwork-a-madrid/2016/10/20/1457
BEGIN:VALARM
TRIGGER:-P0DT1H0M0S
ACTION:DISPLAY
END:VALARM
END:VEVENT
END:VCALENDAR